BEGIN:VCALENDAR
VERSION:2.0
PRODID:-//eventon.com NONSGML v1.0//EN
CALSCALE:GREGORIAN
METHOD:PUBLISH
BEGIN:VEVENT
UID:69e606b2d668f
DTSTAMP:20260420T115754
DTSTART:20260218T173000Z
DTEND:20260218T190000Z
TZID:Europe/Berlin
LOCATION:
SUMMARY:Veranstaltung von Bündnis 90 / Die Grünen Passau: "Gesundheit neu denken - Passau auf dem Weg zur gesündesten Stadt Bayerns"
DESCRIPTION: \nhttps://paulapiechotta.de/events/veranstaltung-von-bundnis-90-die-grunen-passau-gesundheit-neu-denken-passau-auf-dem-weg-zur-gesundesten-stadt-bayerns/
URL:https://paulapiechotta.de/events/veranstaltung-von-bundnis-90-die-grunen-passau-gesundheit-neu-denken-passau-auf-dem-weg-zur-gesundesten-stadt-bayerns/
END:VEVENT
END:VCALENDAR