BEGIN:VCALENDAR
VERSION:2.0
PRODID:-//eventon.com NONSGML v1.0//EN
CALSCALE:GREGORIAN
METHOD:PUBLISH
BEGIN:VEVENT
UID:69e62d103d715
DTSTAMP:20260420T144136
DTSTART:20260421T170000Z
DTEND:20260421T190000Z
TZID:Europe/Berlin
LOCATION:
SUMMARY:Parlamentarischer Abend GKV-Spitzenverband
DESCRIPTION: \nhttps://paulapiechotta.de/events/parlamentarischer-abend-gkv-spitzenverband/
URL:https://paulapiechotta.de/events/parlamentarischer-abend-gkv-spitzenverband/
END:VEVENT
END:VCALENDAR