BEGIN:VCALENDAR
VERSION:2.0
PRODID:-//eventon.com NONSGML v1.0//EN
CALSCALE:GREGORIAN
METHOD:PUBLISH
BEGIN:VEVENT
UID:69e633fcd490d
DTSTAMP:20260420T151108
DTSTART:20260424T090000Z
DTEND:20260424T100000Z
TZID:Europe/Berlin
LOCATION:
SUMMARY:Digitaler Austausch zwischen Bund und Ländern zur Corona-Enquete-Kommission
DESCRIPTION: \nhttps://paulapiechotta.de/events/digitaler-austausch-zwischen-bund-und-landern-zur-corona-enquete-kommission/
URL:https://paulapiechotta.de/events/digitaler-austausch-zwischen-bund-und-landern-zur-corona-enquete-kommission/
END:VEVENT
END:VCALENDAR