BEGIN:VCALENDAR
VERSION:2.0
PRODID:-//eventon.com NONSGML v1.0//EN
CALSCALE:GREGORIAN
METHOD:PUBLISH
BEGIN:VEVENT
UID:69e62c85347ce
DTSTAMP:20260420T143917
DTSTART:20260422T160000Z
DTEND:20260422T180000Z
TZID:Europe/Berlin
LOCATION:
SUMMARY:Helmholtz Future Forward
DESCRIPTION: \nhttps://paulapiechotta.de/events/helmholtz-future-forward/
URL:https://paulapiechotta.de/events/helmholtz-future-forward/
END:VEVENT
END:VCALENDAR