BEGIN:VCALENDAR
VERSION:2.0
PRODID:-//eventon.com NONSGML v1.0//EN
CALSCALE:GREGORIAN
METHOD:PUBLISH
BEGIN:VEVENT
UID:69e757586515f
DTSTAMP:20260421T115416
DTSTART:20260423T163000Z
DTEND:20260423T203000Z
TZID:Europe/Berlin
LOCATION:
SUMMARY:Parlamentarischer Abend der deutschen Cannabiswirtschaft
DESCRIPTION: \nhttps://paulapiechotta.de/events/parlamentarischer-abend-der-deutschen-cannabiswirtschaft/
URL:https://paulapiechotta.de/events/parlamentarischer-abend-der-deutschen-cannabiswirtschaft/
END:VEVENT
END:VCALENDAR