BEGIN:VCALENDAR
VERSION:2.0
PRODID:-//eventon.com NONSGML v1.0//EN
CALSCALE:GREGORIAN
METHOD:PUBLISH
BEGIN:VEVENT
UID:69e615570df99
DTSTAMP:20260420T130023
DTSTART:20260424T090000Z
DTEND:20260424T120000Z
TZID:Europe/Berlin
LOCATION:
SUMMARY:Präsenztreffen der Finanzer*innen
DESCRIPTION: \nhttps://paulapiechotta.de/events/prasenztreffen-der-finanzerinnen/
URL:https://paulapiechotta.de/events/prasenztreffen-der-finanzerinnen/
END:VEVENT
END:VCALENDAR