BEGIN:VCALENDAR
VERSION:2.0
PRODID:-//eventon.com NONSGML v1.0//EN
CALSCALE:GREGORIAN
METHOD:PUBLISH
BEGIN:VEVENT
UID:69e615cae9135
DTSTAMP:20260420T130218
DTSTART:20260422T150000Z
DTEND:20260422T183000Z
TZID:Europe/Berlin
LOCATION:
SUMMARY:2 Jahre European Cycling Declaration
DESCRIPTION: \nhttps://paulapiechotta.de/events/2-jahre-european-cycling-declaration/
URL:https://paulapiechotta.de/events/2-jahre-european-cycling-declaration/
END:VEVENT
END:VCALENDAR